{"text_format":"1","workbook":"xlsx","n_sheets":2,"sheets":["BJE","FB40.1"],"not_rendered":{"charts":0,"images":1,"macros":1,"external_links":1,"defined_names":11,"comments":0,"pivot_tables":0},"unopened":[],"bounds":{"document_bytes":16777216,"sheet_cells":100000,"rows_first":2000,"rows_last":500,"rows_between":2000,"halvings":0,"cell_chars":16384,"cell_head_chars":4096},"cells_cut":0,"cells_raw":0,"read":"whole","date_system":"1900"}

{"sheet":"BJE","index":0,"n_rows":52,"n_cols":13,"rows_kept":52,"cut":false,"hidden":false,"merged":[[11,4,11,6],[12,4,12,5],[14,4,14,5],[9,6,10,6],[0,1,0,6],[1,1,1,6],[3,6,4,6],[6,6,7,6],[3,1,3,2],[4,1,4,2],[5,1,5,2],[6,1,6,2],[7,1,7,2],[9,1,9,2],[13,4,13,5]]}
[null,"BUDGET TRANSFER",null,null,null,null,null,null,null,null,null,null,1]
[]
[null,null,null,null,null,null,"Approval"]
[null,"Company",null,9100]
[null,"Fiscal Year",null,2024]
[null,"Issue Date",null,null,null,null,"Department Approval"]
[null,"Effective Date"]
[null,"Control Totals",null,{"$f":"IF(SUM(D17:D52)=0,\"\", SUM(D17:D52))","v":""}]
[null,null,null,null,null,null,"Finance Approval"]
[null,"Budget Number",null,1]
[]
[null,null,null,null,"For internal Use:"]
[null,null,null,null,"Budget 1 JE Number"]
[null,null,null,null,"Budget 400 JE Number"]
[null,null,null,null,"Add complete?",null,{"$f":"'FB40.1'!P1","v":"Not Uploaded"}]
["FC","Accounting Unit","Account","Amount","Position","Effective Date","Description"]
[{"$f":"IF(B17=\"\",\"\",\"A\")","v":""},null,null,null,null,null,null,{"$f":"IF(E17=\"\",\"\",\" \")","v":""}]
["",null,null,null,null,null,null,{"$f":"IF(E18=\"\",\"\",\" \")","v":""}]
["",null,null,null,null,null,null,""]
["",null,null,null,null,null,null,""]
["",null,null,null,null,null,null,""]
["",null,null,null,null,null,null,""]
[{"$f":"IF(B23=\"\",\"\",\"A\")","v":""},null,null,null,null,null,null,{"$f":"IF(E23=\"\",\"\",\" \")","v":""}]
["",null,null,null,null,null,null,""]
["",null,null,null,null,null,null,""]
["",null,null,null,null,null,null,""]
["",null,null,null,null,null,null,""]
["",null,null,null,null,null,null,""]
["",null,null,null,null,null,null,""]
["",null,null,null,null,null,null,""]
["",null,null,null,null,null,null,""]
["",null,null,null,null,null,null,""]
["",null,null,null,null,null,null,""]
["",null,null,null,null,null,null,""]
["",null,null,null,null,null,null,""]
["",null,null,null,null,null,null,""]
["",null,null,null,null,null,null,""]
["",null,null,null,null,null,null,""]
["",null,null,null,null,null,null,""]
["",null,null,null,null,null,null,""]
["",null,null,null,null,null,null,""]
["",null,null,null,null,null,null,""]
["",null,null,null,null,null,null,""]
["",null,null,null,null,null,null,""]
["",null,null,null,null,null,null,""]
["",null,null,null,null,null,null,""]
["",null,null,null,null,null,null,""]
["",null,null,null,null,null,null,""]
["",null,null,null,null,null,null,""]
["",null,null,null,null,null,null,""]
["",null,null,null,null,null,null,""]
["",null,null,null,null,null,null,""]

{"sheet":"FB40.1","index":1,"n_rows":37,"n_cols":17,"rows_kept":37,"cut":false,"hidden":false,"merged":[]}
["LCC","FC","ACCOUNT","ACCT-UNIT","BASE-AMOUNT","BUDGET-NBR","COMPANY","CONTROL-GROUP","DESCRIPTION","FISCAL-YEAR","PERIOD","FC1","Results from FB40.1",{"$f":"IF(M2=\"\",\"\",SUM(N2:N37))","v":""},"# of Errors",{"$f":"IF(N1=0,\"Add Complete\",IF(Q1=\"Y\",\"Not Uploaded\",\"Errors Exist\"))","v":"Not Uploaded"},{"$f":"IF(N1=\"\",\"Y\",\"N\")","v":"Y"}]
[{"$f":"IF(BJE!B17=\"\",\"\",UPPER(BJE!A17))","v":""},{"$f":"IF(BJE!A17=\"\",\"\",UPPER(BJE!A17))","v":""},{"$f":"IF(BJE!A17=\"\",\"\",BJE!C17)","v":""},{"$f":"IF(BJE!B17=\"\",\"\",BJE!B17)","v":""},{"$f":"IF(BJE!B17=\"\",\"\",BJE!D17)","v":""},{"$f":"IF(BJE!B17=\"\",\"\",BJE!$D$10)","v":""},{"$f":"IF(BJE!B17=\"\",\"\",BJE!$D$4)","v":""},{"$f":"IF(BJE!B17=\"\",\"\",BJE!$G$13)","v":""},{"$f":"CONCATENATE(BJE!E17,BJE!H17,BJE!G17)","v":""},{"$f":"IF(BJE!B17=\"\",\"\",BJE!$D$5)","v":""},{"$f":"IF(BJE!B17=\"\",\"\",BJE!$M$1)","v":""},{"$f":"IF(BJE!B17=\"\",\"\",UPPER(BJE!$A$17))","v":""},null,{"$f":"IF(M2=\"\",\"\",(IF(M2=\"Add Complete - Continue\",0,1)))","v":""}]
[{"$f":"IF(BJE!B18=\"\",\"\",UPPER(BJE!A18))","v":""},{"$f":"IF(BJE!A18=\"\",\"\",UPPER(BJE!A18))","v":""},{"$f":"IF(BJE!A18=\"\",\"\",BJE!C18)","v":""},{"$f":"IF(BJE!B18=\"\",\"\",BJE!B18)","v":""},{"$f":"IF(BJE!B18=\"\",\"\",BJE!D18)","v":""},{"$f":"IF(BJE!B18=\"\",\"\",BJE!$D$10)","v":""},{"$f":"IF(BJE!B18=\"\",\"\",BJE!$D$4)","v":""},{"$f":"IF(BJE!B18=\"\",\"\",BJE!$G$13)","v":""},{"$f":"CONCATENATE(BJE!E18,BJE!H18,BJE!G18)","v":""},{"$f":"IF(BJE!B18=\"\",\"\",BJE!$D$5)","v":""},{"$f":"IF(BJE!B18=\"\",\"\",BJE!$M$1)","v":""},{"$f":"IF(BJE!B18=\"\",\"\",UPPER(BJE!$A$17))","v":""},null,{"$f":"IF(M3=\"\",\"\",(IF(M3=\"Add Complete - Continue\",0,1)))","v":""}]
[{"$f":"IF(BJE!B19=\"\",\"\",UPPER(BJE!A19))","v":""},{"$f":"IF(BJE!A19=\"\",\"\",UPPER(BJE!A19))","v":""},{"$f":"IF(BJE!A19=\"\",\"\",BJE!C19)","v":""},{"$f":"IF(BJE!B19=\"\",\"\",BJE!B19)","v":""},{"$f":"IF(BJE!B19=\"\",\"\",BJE!D19)","v":""},{"$f":"IF(BJE!B19=\"\",\"\",BJE!$D$10)","v":""},{"$f":"IF(BJE!B19=\"\",\"\",BJE!$D$4)","v":""},{"$f":"IF(BJE!B19=\"\",\"\",BJE!$G$13)","v":""},{"$f":"CONCATENATE(BJE!E19,BJE!H19,BJE!G19)","v":""},{"$f":"IF(BJE!B19=\"\",\"\",BJE!$D$5)","v":""},{"$f":"IF(BJE!B19=\"\",\"\",BJE!$M$1)","v":""},{"$f":"IF(BJE!B19=\"\",\"\",UPPER(BJE!$A$17))","v":""},null,""]
[{"$f":"IF(BJE!B20=\"\",\"\",UPPER(BJE!A20))","v":""},{"$f":"IF(BJE!A20=\"\",\"\",UPPER(BJE!A20))","v":""},{"$f":"IF(BJE!A20=\"\",\"\",BJE!C20)","v":""},{"$f":"IF(BJE!B20=\"\",\"\",BJE!B20)","v":""},{"$f":"IF(BJE!B20=\"\",\"\",BJE!D20)","v":""},{"$f":"IF(BJE!B20=\"\",\"\",BJE!$D$10)","v":""},{"$f":"IF(BJE!B20=\"\",\"\",BJE!$D$4)","v":""},{"$f":"IF(BJE!B20=\"\",\"\",BJE!$G$13)","v":""},{"$f":"CONCATENATE(BJE!E20,BJE!H20,BJE!G20)","v":""},{"$f":"IF(BJE!B20=\"\",\"\",BJE!$D$5)","v":""},{"$f":"IF(BJE!B20=\"\",\"\",BJE!$M$1)","v":""},{"$f":"IF(BJE!B20=\"\",\"\",UPPER(BJE!$A$17))","v":""},null,""]
[{"$f":"IF(BJE!B21=\"\",\"\",UPPER(BJE!A21))","v":""},{"$f":"IF(BJE!A21=\"\",\"\",UPPER(BJE!A21))","v":""},{"$f":"IF(BJE!A21=\"\",\"\",BJE!C21)","v":""},{"$f":"IF(BJE!B21=\"\",\"\",BJE!B21)","v":""},{"$f":"IF(BJE!B21=\"\",\"\",BJE!D21)","v":""},{"$f":"IF(BJE!B21=\"\",\"\",BJE!$D$10)","v":""},{"$f":"IF(BJE!B21=\"\",\"\",BJE!$D$4)","v":""},{"$f":"IF(BJE!B21=\"\",\"\",BJE!$G$13)","v":""},{"$f":"CONCATENATE(BJE!E21,BJE!H21,BJE!G21)","v":""},{"$f":"IF(BJE!B21=\"\",\"\",BJE!$D$5)","v":""},{"$f":"IF(BJE!B21=\"\",\"\",BJE!$M$1)","v":""},{"$f":"IF(BJE!B21=\"\",\"\",UPPER(BJE!$A$17))","v":""},null,""]
[{"$f":"IF(BJE!B22=\"\",\"\",UPPER(BJE!A22))","v":""},{"$f":"IF(BJE!A22=\"\",\"\",UPPER(BJE!A22))","v":""},{"$f":"IF(BJE!A22=\"\",\"\",BJE!C22)","v":""},{"$f":"IF(BJE!B22=\"\",\"\",BJE!B22)","v":""},{"$f":"IF(BJE!B22=\"\",\"\",BJE!D22)","v":""},{"$f":"IF(BJE!B22=\"\",\"\",BJE!$D$10)","v":""},{"$f":"IF(BJE!B22=\"\",\"\",BJE!$D$4)","v":""},{"$f":"IF(BJE!B22=\"\",\"\",BJE!$G$13)","v":""},{"$f":"CONCATENATE(BJE!E22,BJE!H22,BJE!G22)","v":""},{"$f":"IF(BJE!B22=\"\",\"\",BJE!$D$5)","v":""},{"$f":"IF(BJE!B22=\"\",\"\",BJE!$M$1)","v":""},{"$f":"IF(BJE!B22=\"\",\"\",UPPER(BJE!$A$17))","v":""},null,""]
[{"$f":"IF(BJE!B23=\"\",\"\",UPPER(BJE!A23))","v":""},{"$f":"IF(BJE!A23=\"\",\"\",UPPER(BJE!A23))","v":""},{"$f":"IF(BJE!A23=\"\",\"\",BJE!C23)","v":""},{"$f":"IF(BJE!B23=\"\",\"\",BJE!B23)","v":""},{"$f":"IF(BJE!B23=\"\",\"\",BJE!D23)","v":""},{"$f":"IF(BJE!B23=\"\",\"\",BJE!$D$10)","v":""},{"$f":"IF(BJE!B23=\"\",\"\",BJE!$D$4)","v":""},{"$f":"IF(BJE!B23=\"\",\"\",BJE!$G$13)","v":""},{"$f":"CONCATENATE(BJE!E23,BJE!H23,BJE!G23)","v":""},{"$f":"IF(BJE!B23=\"\",\"\",BJE!$D$5)","v":""},{"$f":"IF(BJE!B23=\"\",\"\",BJE!$M$1)","v":""},{"$f":"IF(BJE!B23=\"\",\"\",UPPER(BJE!$A$17))","v":""},null,""]
[{"$f":"IF(BJE!B24=\"\",\"\",UPPER(BJE!A24))","v":""},{"$f":"IF(BJE!A24=\"\",\"\",UPPER(BJE!A24))","v":""},{"$f":"IF(BJE!A24=\"\",\"\",BJE!C24)","v":""},{"$f":"IF(BJE!B24=\"\",\"\",BJE!B24)","v":""},{"$f":"IF(BJE!B24=\"\",\"\",BJE!D24)","v":""},{"$f":"IF(BJE!B24=\"\",\"\",BJE!$D$10)","v":""},{"$f":"IF(BJE!B24=\"\",\"\",BJE!$D$4)","v":""},{"$f":"IF(BJE!B24=\"\",\"\",BJE!$G$13)","v":""},{"$f":"CONCATENATE(BJE!E24,BJE!H24,BJE!G24)","v":""},{"$f":"IF(BJE!B24=\"\",\"\",BJE!$D$5)","v":""},{"$f":"IF(BJE!B24=\"\",\"\",BJE!$M$1)","v":""},{"$f":"IF(BJE!B24=\"\",\"\",UPPER(BJE!$A$17))","v":""},null,""]
[{"$f":"IF(BJE!B25=\"\",\"\",UPPER(BJE!A25))","v":""},{"$f":"IF(BJE!A25=\"\",\"\",UPPER(BJE!A25))","v":""},{"$f":"IF(BJE!A25=\"\",\"\",BJE!C25)","v":""},{"$f":"IF(BJE!B25=\"\",\"\",BJE!B25)","v":""},{"$f":"IF(BJE!B25=\"\",\"\",BJE!D25)","v":""},{"$f":"IF(BJE!B25=\"\",\"\",BJE!$D$10)","v":""},{"$f":"IF(BJE!B25=\"\",\"\",BJE!$D$4)","v":""},{"$f":"IF(BJE!B25=\"\",\"\",BJE!$G$13)","v":""},{"$f":"CONCATENATE(BJE!E25,BJE!H25,BJE!G25)","v":""},{"$f":"IF(BJE!B25=\"\",\"\",BJE!$D$5)","v":""},{"$f":"IF(BJE!B25=\"\",\"\",BJE!$M$1)","v":""},{"$f":"IF(BJE!B25=\"\",\"\",UPPER(BJE!$A$17))","v":""},null,""]
[{"$f":"IF(BJE!B26=\"\",\"\",UPPER(BJE!A26))","v":""},{"$f":"IF(BJE!A26=\"\",\"\",UPPER(BJE!A26))","v":""},{"$f":"IF(BJE!A26=\"\",\"\",BJE!C26)","v":""},{"$f":"IF(BJE!B26=\"\",\"\",BJE!B26)","v":""},{"$f":"IF(BJE!B26=\"\",\"\",BJE!D26)","v":""},{"$f":"IF(BJE!B26=\"\",\"\",BJE!$D$10)","v":""},{"$f":"IF(BJE!B26=\"\",\"\",BJE!$D$4)","v":""},{"$f":"IF(BJE!B26=\"\",\"\",BJE!$G$13)","v":""},{"$f":"CONCATENATE(BJE!E26,BJE!H26,BJE!G26)","v":""},{"$f":"IF(BJE!B26=\"\",\"\",BJE!$D$5)","v":""},{"$f":"IF(BJE!B26=\"\",\"\",BJE!$M$1)","v":""},{"$f":"IF(BJE!B26=\"\",\"\",UPPER(BJE!$A$17))","v":""},null,""]
[{"$f":"IF(BJE!B27=\"\",\"\",UPPER(BJE!A27))","v":""},{"$f":"IF(BJE!A27=\"\",\"\",UPPER(BJE!A27))","v":""},{"$f":"IF(BJE!A27=\"\",\"\",BJE!C27)","v":""},{"$f":"IF(BJE!B27=\"\",\"\",BJE!B27)","v":""},{"$f":"IF(BJE!B27=\"\",\"\",BJE!D27)","v":""},{"$f":"IF(BJE!B27=\"\",\"\",BJE!$D$10)","v":""},{"$f":"IF(BJE!B27=\"\",\"\",BJE!$D$4)","v":""},{"$f":"IF(BJE!B27=\"\",\"\",BJE!$G$13)","v":""},{"$f":"CONCATENATE(BJE!E27,BJE!H27,BJE!G27)","v":""},{"$f":"IF(BJE!B27=\"\",\"\",BJE!$D$5)","v":""},{"$f":"IF(BJE!B27=\"\",\"\",BJE!$M$1)","v":""},{"$f":"IF(BJE!B27=\"\",\"\",UPPER(BJE!$A$17))","v":""},null,""]
[{"$f":"IF(BJE!B28=\"\",\"\",UPPER(BJE!A28))","v":""},{"$f":"IF(BJE!A28=\"\",\"\",UPPER(BJE!A28))","v":""},{"$f":"IF(BJE!A28=\"\",\"\",BJE!C28)","v":""},{"$f":"IF(BJE!B28=\"\",\"\",BJE!B28)","v":""},{"$f":"IF(BJE!B28=\"\",\"\",BJE!D28)","v":""},{"$f":"IF(BJE!B28=\"\",\"\",BJE!$D$10)","v":""},{"$f":"IF(BJE!B28=\"\",\"\",BJE!$D$4)","v":""},{"$f":"IF(BJE!B28=\"\",\"\",BJE!$G$13)","v":""},{"$f":"CONCATENATE(BJE!E28,BJE!H28,BJE!G28)","v":""},{"$f":"IF(BJE!B28=\"\",\"\",BJE!$D$5)","v":""},{"$f":"IF(BJE!B28=\"\",\"\",BJE!$M$1)","v":""},{"$f":"IF(BJE!B28=\"\",\"\",UPPER(BJE!$A$17))","v":""},null,""]
[{"$f":"IF(BJE!B29=\"\",\"\",UPPER(BJE!A29))","v":""},{"$f":"IF(BJE!A29=\"\",\"\",UPPER(BJE!A29))","v":""},{"$f":"IF(BJE!A29=\"\",\"\",BJE!C29)","v":""},{"$f":"IF(BJE!B29=\"\",\"\",BJE!B29)","v":""},{"$f":"IF(BJE!B29=\"\",\"\",BJE!D29)","v":""},{"$f":"IF(BJE!B29=\"\",\"\",BJE!$D$10)","v":""},{"$f":"IF(BJE!B29=\"\",\"\",BJE!$D$4)","v":""},{"$f":"IF(BJE!B29=\"\",\"\",BJE!$G$13)","v":""},{"$f":"CONCATENATE(BJE!E29,BJE!H29,BJE!G29)","v":""},{"$f":"IF(BJE!B29=\"\",\"\",BJE!$D$5)","v":""},{"$f":"IF(BJE!B29=\"\",\"\",BJE!$M$1)","v":""},{"$f":"IF(BJE!B29=\"\",\"\",UPPER(BJE!$A$17))","v":""},null,""]
[{"$f":"IF(BJE!B30=\"\",\"\",UPPER(BJE!A30))","v":""},{"$f":"IF(BJE!A30=\"\",\"\",UPPER(BJE!A30))","v":""},{"$f":"IF(BJE!A30=\"\",\"\",BJE!C30)","v":""},{"$f":"IF(BJE!B30=\"\",\"\",BJE!B30)","v":""},{"$f":"IF(BJE!B30=\"\",\"\",BJE!D30)","v":""},{"$f":"IF(BJE!B30=\"\",\"\",BJE!$D$10)","v":""},{"$f":"IF(BJE!B30=\"\",\"\",BJE!$D$4)","v":""},{"$f":"IF(BJE!B30=\"\",\"\",BJE!$G$13)","v":""},{"$f":"CONCATENATE(BJE!E30,BJE!H30,BJE!G30)","v":""},{"$f":"IF(BJE!B30=\"\",\"\",BJE!$D$5)","v":""},{"$f":"IF(BJE!B30=\"\",\"\",BJE!$M$1)","v":""},{"$f":"IF(BJE!B30=\"\",\"\",UPPER(BJE!$A$17))","v":""},null,""]
[{"$f":"IF(BJE!B31=\"\",\"\",UPPER(BJE!A31))","v":""},{"$f":"IF(BJE!A31=\"\",\"\",UPPER(BJE!A31))","v":""},{"$f":"IF(BJE!A31=\"\",\"\",BJE!C31)","v":""},{"$f":"IF(BJE!B31=\"\",\"\",BJE!B31)","v":""},{"$f":"IF(BJE!B31=\"\",\"\",BJE!D31)","v":""},{"$f":"IF(BJE!B31=\"\",\"\",BJE!$D$10)","v":""},{"$f":"IF(BJE!B31=\"\",\"\",BJE!$D$4)","v":""},{"$f":"IF(BJE!B31=\"\",\"\",BJE!$G$13)","v":""},{"$f":"CONCATENATE(BJE!E31,BJE!H31,BJE!G31)","v":""},{"$f":"IF(BJE!B31=\"\",\"\",BJE!$D$5)","v":""},{"$f":"IF(BJE!B31=\"\",\"\",BJE!$M$1)","v":""},{"$f":"IF(BJE!B31=\"\",\"\",UPPER(BJE!$A$17))","v":""},null,""]
[{"$f":"IF(BJE!B32=\"\",\"\",UPPER(BJE!A32))","v":""},{"$f":"IF(BJE!A32=\"\",\"\",UPPER(BJE!A32))","v":""},{"$f":"IF(BJE!A32=\"\",\"\",BJE!C32)","v":""},{"$f":"IF(BJE!B32=\"\",\"\",BJE!B32)","v":""},{"$f":"IF(BJE!B32=\"\",\"\",BJE!D32)","v":""},{"$f":"IF(BJE!B32=\"\",\"\",BJE!$D$10)","v":""},{"$f":"IF(BJE!B32=\"\",\"\",BJE!$D$4)","v":""},{"$f":"IF(BJE!B32=\"\",\"\",BJE!$G$13)","v":""},{"$f":"CONCATENATE(BJE!E32,BJE!H32,BJE!G32)","v":""},{"$f":"IF(BJE!B32=\"\",\"\",BJE!$D$5)","v":""},{"$f":"IF(BJE!B32=\"\",\"\",BJE!$M$1)","v":""},{"$f":"IF(BJE!B32=\"\",\"\",UPPER(BJE!$A$17))","v":""},null,""]
[{"$f":"IF(BJE!B33=\"\",\"\",UPPER(BJE!A33))","v":""},{"$f":"IF(BJE!A33=\"\",\"\",UPPER(BJE!A33))","v":""},{"$f":"IF(BJE!A33=\"\",\"\",BJE!C33)","v":""},{"$f":"IF(BJE!B33=\"\",\"\",BJE!B33)","v":""},{"$f":"IF(BJE!B33=\"\",\"\",BJE!D33)","v":""},{"$f":"IF(BJE!B33=\"\",\"\",BJE!$D$10)","v":""},{"$f":"IF(BJE!B33=\"\",\"\",BJE!$D$4)","v":""},{"$f":"IF(BJE!B33=\"\",\"\",BJE!$G$13)","v":""},{"$f":"CONCATENATE(BJE!E33,BJE!H33,BJE!G33)","v":""},{"$f":"IF(BJE!B33=\"\",\"\",BJE!$D$5)","v":""},{"$f":"IF(BJE!B33=\"\",\"\",BJE!$M$1)","v":""},{"$f":"IF(BJE!B33=\"\",\"\",UPPER(BJE!$A$17))","v":""},null,""]
[{"$f":"IF(BJE!B34=\"\",\"\",UPPER(BJE!A34))","v":""},{"$f":"IF(BJE!A34=\"\",\"\",UPPER(BJE!A34))","v":""},{"$f":"IF(BJE!A34=\"\",\"\",BJE!C34)","v":""},{"$f":"IF(BJE!B34=\"\",\"\",BJE!B34)","v":""},{"$f":"IF(BJE!B34=\"\",\"\",BJE!D34)","v":""},{"$f":"IF(BJE!B34=\"\",\"\",BJE!$D$10)","v":""},{"$f":"IF(BJE!B34=\"\",\"\",BJE!$D$4)","v":""},{"$f":"IF(BJE!B34=\"\",\"\",BJE!$G$13)","v":""},{"$f":"CONCATENATE(BJE!E34,BJE!H34,BJE!G34)","v":""},{"$f":"IF(BJE!B34=\"\",\"\",BJE!$D$5)","v":""},{"$f":"IF(BJE!B34=\"\",\"\",BJE!$M$1)","v":""},{"$f":"IF(BJE!B34=\"\",\"\",UPPER(BJE!$A$17))","v":""},null,""]
[{"$f":"IF(BJE!B35=\"\",\"\",UPPER(BJE!A35))","v":""},{"$f":"IF(BJE!A35=\"\",\"\",UPPER(BJE!A35))","v":""},{"$f":"IF(BJE!A35=\"\",\"\",BJE!C35)","v":""},{"$f":"IF(BJE!B35=\"\",\"\",BJE!B35)","v":""},{"$f":"IF(BJE!B35=\"\",\"\",BJE!D35)","v":""},{"$f":"IF(BJE!B35=\"\",\"\",BJE!$D$10)","v":""},{"$f":"IF(BJE!B35=\"\",\"\",BJE!$D$4)","v":""},{"$f":"IF(BJE!B35=\"\",\"\",BJE!$G$13)","v":""},{"$f":"CONCATENATE(BJE!E35,BJE!H35,BJE!G35)","v":""},{"$f":"IF(BJE!B35=\"\",\"\",BJE!$D$5)","v":""},{"$f":"IF(BJE!B35=\"\",\"\",BJE!$M$1)","v":""},{"$f":"IF(BJE!B35=\"\",\"\",UPPER(BJE!$A$17))","v":""},null,""]
[{"$f":"IF(BJE!B36=\"\",\"\",UPPER(BJE!A36))","v":""},{"$f":"IF(BJE!A36=\"\",\"\",UPPER(BJE!A36))","v":""},{"$f":"IF(BJE!A36=\"\",\"\",BJE!C36)","v":""},{"$f":"IF(BJE!B36=\"\",\"\",BJE!B36)","v":""},{"$f":"IF(BJE!B36=\"\",\"\",BJE!D36)","v":""},{"$f":"IF(BJE!B36=\"\",\"\",BJE!$D$10)","v":""},{"$f":"IF(BJE!B36=\"\",\"\",BJE!$D$4)","v":""},{"$f":"IF(BJE!B36=\"\",\"\",BJE!$G$13)","v":""},{"$f":"CONCATENATE(BJE!E36,BJE!H36,BJE!G36)","v":""},{"$f":"IF(BJE!B36=\"\",\"\",BJE!$D$5)","v":""},{"$f":"IF(BJE!B36=\"\",\"\",BJE!$M$1)","v":""},{"$f":"IF(BJE!B36=\"\",\"\",UPPER(BJE!$A$17))","v":""},null,""]
[{"$f":"IF(BJE!B37=\"\",\"\",UPPER(BJE!A37))","v":""},{"$f":"IF(BJE!A37=\"\",\"\",UPPER(BJE!A37))","v":""},{"$f":"IF(BJE!A37=\"\",\"\",BJE!C37)","v":""},{"$f":"IF(BJE!B37=\"\",\"\",BJE!B37)","v":""},{"$f":"IF(BJE!B37=\"\",\"\",BJE!D37)","v":""},{"$f":"IF(BJE!B37=\"\",\"\",BJE!$D$10)","v":""},{"$f":"IF(BJE!B37=\"\",\"\",BJE!$D$4)","v":""},{"$f":"IF(BJE!B37=\"\",\"\",BJE!$G$13)","v":""},{"$f":"CONCATENATE(BJE!E37,BJE!H37,BJE!G37)","v":""},{"$f":"IF(BJE!B37=\"\",\"\",BJE!$D$5)","v":""},{"$f":"IF(BJE!B37=\"\",\"\",BJE!$M$1)","v":""},{"$f":"IF(BJE!B37=\"\",\"\",UPPER(BJE!$A$17))","v":""},null,""]
[{"$f":"IF(BJE!B38=\"\",\"\",UPPER(BJE!A38))","v":""},{"$f":"IF(BJE!A38=\"\",\"\",UPPER(BJE!A38))","v":""},{"$f":"IF(BJE!A38=\"\",\"\",BJE!C38)","v":""},{"$f":"IF(BJE!B38=\"\",\"\",BJE!B38)","v":""},{"$f":"IF(BJE!B38=\"\",\"\",BJE!D38)","v":""},{"$f":"IF(BJE!B38=\"\",\"\",BJE!$D$10)","v":""},{"$f":"IF(BJE!B38=\"\",\"\",BJE!$D$4)","v":""},{"$f":"IF(BJE!B38=\"\",\"\",BJE!$G$13)","v":""},{"$f":"CONCATENATE(BJE!E38,BJE!H38,BJE!G38)","v":""},{"$f":"IF(BJE!B38=\"\",\"\",BJE!$D$5)","v":""},{"$f":"IF(BJE!B38=\"\",\"\",BJE!$M$1)","v":""},{"$f":"IF(BJE!B38=\"\",\"\",UPPER(BJE!$A$17))","v":""},null,""]
[{"$f":"IF(BJE!B39=\"\",\"\",UPPER(BJE!A39))","v":""},{"$f":"IF(BJE!A39=\"\",\"\",UPPER(BJE!A39))","v":""},{"$f":"IF(BJE!A39=\"\",\"\",BJE!C39)","v":""},{"$f":"IF(BJE!B39=\"\",\"\",BJE!B39)","v":""},{"$f":"IF(BJE!B39=\"\",\"\",BJE!D39)","v":""},{"$f":"IF(BJE!B39=\"\",\"\",BJE!$D$10)","v":""},{"$f":"IF(BJE!B39=\"\",\"\",BJE!$D$4)","v":""},{"$f":"IF(BJE!B39=\"\",\"\",BJE!$G$13)","v":""},{"$f":"CONCATENATE(BJE!E39,BJE!H39,BJE!G39)","v":""},{"$f":"IF(BJE!B39=\"\",\"\",BJE!$D$5)","v":""},{"$f":"IF(BJE!B39=\"\",\"\",BJE!$M$1)","v":""},{"$f":"IF(BJE!B39=\"\",\"\",UPPER(BJE!$A$17))","v":""},null,""]
[{"$f":"IF(BJE!B40=\"\",\"\",UPPER(BJE!A40))","v":""},{"$f":"IF(BJE!A40=\"\",\"\",UPPER(BJE!A40))","v":""},{"$f":"IF(BJE!A40=\"\",\"\",BJE!C40)","v":""},{"$f":"IF(BJE!B40=\"\",\"\",BJE!B40)","v":""},{"$f":"IF(BJE!B40=\"\",\"\",BJE!D40)","v":""},{"$f":"IF(BJE!B40=\"\",\"\",BJE!$D$10)","v":""},{"$f":"IF(BJE!B40=\"\",\"\",BJE!$D$4)","v":""},{"$f":"IF(BJE!B40=\"\",\"\",BJE!$G$13)","v":""},{"$f":"CONCATENATE(BJE!E40,BJE!H40,BJE!G40)","v":""},{"$f":"IF(BJE!B40=\"\",\"\",BJE!$D$5)","v":""},{"$f":"IF(BJE!B40=\"\",\"\",BJE!$M$1)","v":""},{"$f":"IF(BJE!B40=\"\",\"\",UPPER(BJE!$A$17))","v":""},null,""]
[{"$f":"IF(BJE!B41=\"\",\"\",UPPER(BJE!A41))","v":""},{"$f":"IF(BJE!A41=\"\",\"\",UPPER(BJE!A41))","v":""},{"$f":"IF(BJE!A41=\"\",\"\",BJE!C41)","v":""},{"$f":"IF(BJE!B41=\"\",\"\",BJE!B41)","v":""},{"$f":"IF(BJE!B41=\"\",\"\",BJE!D41)","v":""},{"$f":"IF(BJE!B41=\"\",\"\",BJE!$D$10)","v":""},{"$f":"IF(BJE!B41=\"\",\"\",BJE!$D$4)","v":""},{"$f":"IF(BJE!B41=\"\",\"\",BJE!$G$13)","v":""},{"$f":"CONCATENATE(BJE!E41,BJE!H41,BJE!G41)","v":""},{"$f":"IF(BJE!B41=\"\",\"\",BJE!$D$5)","v":""},{"$f":"IF(BJE!B41=\"\",\"\",BJE!$M$1)","v":""},{"$f":"IF(BJE!B41=\"\",\"\",UPPER(BJE!$A$17))","v":""},null,""]
[{"$f":"IF(BJE!B42=\"\",\"\",UPPER(BJE!A42))","v":""},{"$f":"IF(BJE!A42=\"\",\"\",UPPER(BJE!A42))","v":""},{"$f":"IF(BJE!A42=\"\",\"\",BJE!C42)","v":""},{"$f":"IF(BJE!B42=\"\",\"\",BJE!B42)","v":""},{"$f":"IF(BJE!B42=\"\",\"\",BJE!D42)","v":""},{"$f":"IF(BJE!B42=\"\",\"\",BJE!$D$10)","v":""},{"$f":"IF(BJE!B42=\"\",\"\",BJE!$D$4)","v":""},{"$f":"IF(BJE!B42=\"\",\"\",BJE!$G$13)","v":""},{"$f":"CONCATENATE(BJE!E42,BJE!H42,BJE!G42)","v":""},{"$f":"IF(BJE!B42=\"\",\"\",BJE!$D$5)","v":""},{"$f":"IF(BJE!B42=\"\",\"\",BJE!$M$1)","v":""},{"$f":"IF(BJE!B42=\"\",\"\",UPPER(BJE!$A$17))","v":""},null,""]
[{"$f":"IF(BJE!B43=\"\",\"\",UPPER(BJE!A43))","v":""},{"$f":"IF(BJE!A43=\"\",\"\",UPPER(BJE!A43))","v":""},{"$f":"IF(BJE!A43=\"\",\"\",BJE!C43)","v":""},{"$f":"IF(BJE!B43=\"\",\"\",BJE!B43)","v":""},{"$f":"IF(BJE!B43=\"\",\"\",BJE!D43)","v":""},{"$f":"IF(BJE!B43=\"\",\"\",BJE!$D$10)","v":""},{"$f":"IF(BJE!B43=\"\",\"\",BJE!$D$4)","v":""},{"$f":"IF(BJE!B43=\"\",\"\",BJE!$G$13)","v":""},{"$f":"CONCATENATE(BJE!E43,BJE!H43,BJE!G43)","v":""},{"$f":"IF(BJE!B43=\"\",\"\",BJE!$D$5)","v":""},{"$f":"IF(BJE!B43=\"\",\"\",BJE!$M$1)","v":""},{"$f":"IF(BJE!B43=\"\",\"\",UPPER(BJE!$A$17))","v":""},null,""]
[{"$f":"IF(BJE!B44=\"\",\"\",UPPER(BJE!A44))","v":""},{"$f":"IF(BJE!A44=\"\",\"\",UPPER(BJE!A44))","v":""},{"$f":"IF(BJE!A44=\"\",\"\",BJE!C44)","v":""},{"$f":"IF(BJE!B44=\"\",\"\",BJE!B44)","v":""},{"$f":"IF(BJE!B44=\"\",\"\",BJE!D44)","v":""},{"$f":"IF(BJE!B44=\"\",\"\",BJE!$D$10)","v":""},{"$f":"IF(BJE!B44=\"\",\"\",BJE!$D$4)","v":""},{"$f":"IF(BJE!B44=\"\",\"\",BJE!$G$13)","v":""},{"$f":"CONCATENATE(BJE!E44,BJE!H44,BJE!G44)","v":""},{"$f":"IF(BJE!B44=\"\",\"\",BJE!$D$5)","v":""},{"$f":"IF(BJE!B44=\"\",\"\",BJE!$M$1)","v":""},{"$f":"IF(BJE!B44=\"\",\"\",UPPER(BJE!$A$17))","v":""},null,""]
[{"$f":"IF(BJE!B45=\"\",\"\",UPPER(BJE!A45))","v":""},{"$f":"IF(BJE!A45=\"\",\"\",UPPER(BJE!A45))","v":""},{"$f":"IF(BJE!A45=\"\",\"\",BJE!C45)","v":""},{"$f":"IF(BJE!B45=\"\",\"\",BJE!B45)","v":""},{"$f":"IF(BJE!B45=\"\",\"\",BJE!D45)","v":""},{"$f":"IF(BJE!B45=\"\",\"\",BJE!$D$10)","v":""},{"$f":"IF(BJE!B45=\"\",\"\",BJE!$D$4)","v":""},{"$f":"IF(BJE!B45=\"\",\"\",BJE!$G$13)","v":""},{"$f":"CONCATENATE(BJE!E45,BJE!H45,BJE!G45)","v":""},{"$f":"IF(BJE!B45=\"\",\"\",BJE!$D$5)","v":""},{"$f":"IF(BJE!B45=\"\",\"\",BJE!$M$1)","v":""},{"$f":"IF(BJE!B45=\"\",\"\",UPPER(BJE!$A$17))","v":""},null,""]
[{"$f":"IF(BJE!B46=\"\",\"\",UPPER(BJE!A46))","v":""},{"$f":"IF(BJE!A46=\"\",\"\",UPPER(BJE!A46))","v":""},{"$f":"IF(BJE!A46=\"\",\"\",BJE!C46)","v":""},{"$f":"IF(BJE!B46=\"\",\"\",BJE!B46)","v":""},{"$f":"IF(BJE!B46=\"\",\"\",BJE!D46)","v":""},{"$f":"IF(BJE!B46=\"\",\"\",BJE!$D$10)","v":""},{"$f":"IF(BJE!B46=\"\",\"\",BJE!$D$4)","v":""},{"$f":"IF(BJE!B46=\"\",\"\",BJE!$G$13)","v":""},{"$f":"CONCATENATE(BJE!E46,BJE!H46,BJE!G46)","v":""},{"$f":"IF(BJE!B46=\"\",\"\",BJE!$D$5)","v":""},{"$f":"IF(BJE!B46=\"\",\"\",BJE!$M$1)","v":""},{"$f":"IF(BJE!B46=\"\",\"\",UPPER(BJE!$A$17))","v":""},null,""]
[{"$f":"IF(BJE!B47=\"\",\"\",UPPER(BJE!A47))","v":""},{"$f":"IF(BJE!A47=\"\",\"\",UPPER(BJE!A47))","v":""},{"$f":"IF(BJE!A47=\"\",\"\",BJE!C47)","v":""},{"$f":"IF(BJE!B47=\"\",\"\",BJE!B47)","v":""},{"$f":"IF(BJE!B47=\"\",\"\",BJE!D47)","v":""},{"$f":"IF(BJE!B47=\"\",\"\",BJE!$D$10)","v":""},{"$f":"IF(BJE!B47=\"\",\"\",BJE!$D$4)","v":""},{"$f":"IF(BJE!B47=\"\",\"\",BJE!$G$13)","v":""},{"$f":"CONCATENATE(BJE!E47,BJE!H47,BJE!G47)","v":""},{"$f":"IF(BJE!B47=\"\",\"\",BJE!$D$5)","v":""},{"$f":"IF(BJE!B47=\"\",\"\",BJE!$M$1)","v":""},{"$f":"IF(BJE!B47=\"\",\"\",UPPER(BJE!$A$17))","v":""},null,""]
[{"$f":"IF(BJE!B48=\"\",\"\",UPPER(BJE!A48))","v":""},{"$f":"IF(BJE!A48=\"\",\"\",UPPER(BJE!A48))","v":""},{"$f":"IF(BJE!A48=\"\",\"\",BJE!C48)","v":""},{"$f":"IF(BJE!B48=\"\",\"\",BJE!B48)","v":""},{"$f":"IF(BJE!B48=\"\",\"\",BJE!D48)","v":""},{"$f":"IF(BJE!B48=\"\",\"\",BJE!$D$10)","v":""},{"$f":"IF(BJE!B48=\"\",\"\",BJE!$D$4)","v":""},{"$f":"IF(BJE!B48=\"\",\"\",BJE!$G$13)","v":""},{"$f":"CONCATENATE(BJE!E48,BJE!H48,BJE!G48)","v":""},{"$f":"IF(BJE!B48=\"\",\"\",BJE!$D$5)","v":""},{"$f":"IF(BJE!B48=\"\",\"\",BJE!$M$1)","v":""},{"$f":"IF(BJE!B48=\"\",\"\",UPPER(BJE!$A$17))","v":""},null,""]
[{"$f":"IF(BJE!B49=\"\",\"\",UPPER(BJE!A49))","v":""},{"$f":"IF(BJE!A49=\"\",\"\",UPPER(BJE!A49))","v":""},{"$f":"IF(BJE!A49=\"\",\"\",BJE!C49)","v":""},{"$f":"IF(BJE!B49=\"\",\"\",BJE!B49)","v":""},{"$f":"IF(BJE!B49=\"\",\"\",BJE!D49)","v":""},{"$f":"IF(BJE!B49=\"\",\"\",BJE!$D$10)","v":""},{"$f":"IF(BJE!B49=\"\",\"\",BJE!$D$4)","v":""},{"$f":"IF(BJE!B49=\"\",\"\",BJE!$G$13)","v":""},{"$f":"CONCATENATE(BJE!E49,BJE!H49,BJE!G49)","v":""},{"$f":"IF(BJE!B49=\"\",\"\",BJE!$D$5)","v":""},{"$f":"IF(BJE!B49=\"\",\"\",BJE!$M$1)","v":""},{"$f":"IF(BJE!B49=\"\",\"\",UPPER(BJE!$A$17))","v":""},null,""]
[{"$f":"IF(BJE!B50=\"\",\"\",UPPER(BJE!A50))","v":""},{"$f":"IF(BJE!A50=\"\",\"\",UPPER(BJE!A50))","v":""},{"$f":"IF(BJE!A50=\"\",\"\",BJE!C50)","v":""},{"$f":"IF(BJE!B50=\"\",\"\",BJE!B50)","v":""},{"$f":"IF(BJE!B50=\"\",\"\",BJE!D50)","v":""},{"$f":"IF(BJE!B50=\"\",\"\",BJE!$D$10)","v":""},{"$f":"IF(BJE!B50=\"\",\"\",BJE!$D$4)","v":""},{"$f":"IF(BJE!B50=\"\",\"\",BJE!$G$13)","v":""},{"$f":"CONCATENATE(BJE!E50,BJE!H50,BJE!G50)","v":""},{"$f":"IF(BJE!B50=\"\",\"\",BJE!$D$5)","v":""},{"$f":"IF(BJE!B50=\"\",\"\",BJE!$M$1)","v":""},{"$f":"IF(BJE!B50=\"\",\"\",UPPER(BJE!$A$17))","v":""},null,""]
[{"$f":"IF(BJE!B51=\"\",\"\",UPPER(BJE!A51))","v":""},{"$f":"IF(BJE!A51=\"\",\"\",UPPER(BJE!A51))","v":""},{"$f":"IF(BJE!A51=\"\",\"\",BJE!C51)","v":""},{"$f":"IF(BJE!B51=\"\",\"\",BJE!B51)","v":""},{"$f":"IF(BJE!B51=\"\",\"\",BJE!D51)","v":""},{"$f":"IF(BJE!B51=\"\",\"\",BJE!$D$10)","v":""},{"$f":"IF(BJE!B51=\"\",\"\",BJE!$D$4)","v":""},{"$f":"IF(BJE!B51=\"\",\"\",BJE!$G$13)","v":""},{"$f":"CONCATENATE(BJE!E51,BJE!H51,BJE!G51)","v":""},{"$f":"IF(BJE!B51=\"\",\"\",BJE!$D$5)","v":""},{"$f":"IF(BJE!B51=\"\",\"\",BJE!$M$1)","v":""},{"$f":"IF(BJE!B51=\"\",\"\",UPPER(BJE!$A$17))","v":""},null,""]
[{"$f":"IF(BJE!B52=\"\",\"\",UPPER(BJE!A52))","v":""},{"$f":"IF(BJE!A52=\"\",\"\",UPPER(BJE!A52))","v":""},{"$f":"IF(BJE!A52=\"\",\"\",BJE!C52)","v":""},{"$f":"IF(BJE!B52=\"\",\"\",BJE!B52)","v":""},{"$f":"IF(BJE!B52=\"\",\"\",BJE!D52)","v":""},{"$f":"IF(BJE!B52=\"\",\"\",BJE!$D$10)","v":""},{"$f":"IF(BJE!B52=\"\",\"\",BJE!$D$4)","v":""},{"$f":"IF(BJE!B52=\"\",\"\",BJE!$G$13)","v":""},{"$f":"CONCATENATE(BJE!E52,BJE!H52,BJE!G52)","v":""},{"$f":"IF(BJE!B52=\"\",\"\",BJE!$D$5)","v":""},{"$f":"IF(BJE!B52=\"\",\"\",BJE!$M$1)","v":""},{"$f":"IF(BJE!B52=\"\",\"\",UPPER(BJE!$A$17))","v":""},null,""]